BEGIN:VCALENDAR
VERSION:2.0
PRODID:-//Eventin//Event Calendar//EN
CALSCALE:GREGORIAN
METHOD:PUBLISH
BEGIN:VEVENT
UID:9ec707b51cdcced1de6b83e1c982960f@artweekaruba.com
SUMMARY:Palette Knife with Elvis Tromp
DESCRIPTION:Palette Knife Mastery: An Exclusive Workshop with Elvis Tromp a
 t the Aruba Art Fair 🎨 Date: 10th September 2023 🕖 Time: 7:00 PM 📍
  Venue: Aruba Art Fair This year\, the Aruba Art Fair brings you an unparal
 leled opportunity to learn from the maestro himself\, Elvis Tromp. After hi
 s last mesmerizing workshop at ArtisA in 2021\, the legend returns for a on
 e-time special event\, exclusively at the fair. Dive into the World of Pale
 tte Knife Artistry: Engage in a hands-on workshop\, mastering the intricate
  techniques of palette knife painting. Learn directly from Elvis Tromp\, ce
 lebrated for his unparalleled artistry and captivating teaching style. All 
 materials will be provided. Just bring your passion for art and a thirst fo
 r knowledge! Special Bonus: Your workshop ticket\, priced at $85.00\, also 
 grants you a weekend pass to the Aruba Art Fair. Immerse yourself in the ec
 lectic art displays and the pulsating energy of the fair throughout the wee
 kend. Exclusive Access: To maintain a close-knit and interactive environmen
 t\, this workshop is limited to only 30 art enthusiasts. Seize this once-in
 -a-lifetime chance to learn from the grand Elvis Tromp. Reserve your seat n
 ow and dive deep into the world of palette knife artistry!
LOCATION:B v/d Veen Zeppenfeldstraat 6
DTSTAMP:20260420T035103Z
DTSTART:20230910T230000Z
DTEND:20260420T003000Z
END:VEVENT
END:VCALENDAR
